BEGIN:VCALENDAR
VERSION:2.0
PRODID:-//GForce Gymnastics &amp; Parkour - ECPv6.15.20//NONSGML v1.0//EN
CALSCALE:GREGORIAN
METHOD:PUBLISH
X-ORIGINAL-URL:https://www.gforcegyms.com
X-WR-CALDESC:Events for GForce Gymnastics &amp; Parkour
REFRESH-INTERVAL;VALUE=DURATION:PT1H
X-Robots-Tag:noindex
X-PUBLISHED-TTL:PT1H
BEGIN:VTIMEZONE
TZID:America/Los_Angeles
BEGIN:DAYLIGHT
TZOFFSETFROM:-0800
TZOFFSETTO:-0700
TZNAME:PDT
DTSTART:20250309T100000
END:DAYLIGHT
BEGIN:STANDARD
TZOFFSETFROM:-0700
TZOFFSETTO:-0800
TZNAME:PST
DTSTART:20251102T090000
END:STANDARD
BEGIN:DAYLIGHT
TZOFFSETFROM:-0800
TZOFFSETTO:-0700
TZNAME:PDT
DTSTART:20260308T100000
END:DAYLIGHT
BEGIN:STANDARD
TZOFFSETFROM:-0700
TZOFFSETTO:-0800
TZNAME:PST
DTSTART:20261101T090000
END:STANDARD
BEGIN:DAYLIGHT
TZOFFSETFROM:-0800
TZOFFSETTO:-0700
TZNAME:PDT
DTSTART:20270314T100000
END:DAYLIGHT
BEGIN:STANDARD
TZOFFSETFROM:-0700
TZOFFSETTO:-0800
TZNAME:PST
DTSTART:20271107T090000
END:STANDARD
END:VTIMEZONE
BEGIN:VEVENT
DTSTART;VALUE=DATE:20260601
DTEND;VALUE=DATE:20260606
DTSTAMP:20260420T063848
CREATED:20260109T223536Z
LAST-MODIFIED:20260109T223536Z
UID:3393-1780272000-1780703999@www.gforcegyms.com
SUMMARY:Summer Camp (Week 1): Aloha Summer
DESCRIPTION:
URL:https://www.gforcegyms.com/event/summer-camp-week-1-aloha-summer/
CATEGORIES:Camp
END:VEVENT
BEGIN:VEVENT
DTSTART;VALUE=DATE:20260608
DTEND;VALUE=DATE:20260613
DTSTAMP:20260420T063848
CREATED:20260109T223537Z
LAST-MODIFIED:20260109T223537Z
UID:3396-1780876800-1781308799@www.gforcegyms.com
SUMMARY:Summer Camp (Week 2): Magic of Disney
DESCRIPTION:
URL:https://www.gforcegyms.com/event/summer-camp-week-2-magic-of-disney/
CATEGORIES:Camp
END:VEVENT
BEGIN:VEVENT
DTSTART;VALUE=DATE:20260615
DTEND;VALUE=DATE:20260620
DTSTAMP:20260420T063848
CREATED:20260109T223552Z
LAST-MODIFIED:20260109T223552Z
UID:3399-1781481600-1781913599@www.gforcegyms.com
SUMMARY:Summer Camp (Week 3): Super Hero Quest
DESCRIPTION:
URL:https://www.gforcegyms.com/event/summer-camp-week-3-super-hero-quest/
CATEGORIES:Camp
END:VEVENT
BEGIN:VEVENT
DTSTART;VALUE=DATE:20260622
DTEND;VALUE=DATE:20260627
DTSTAMP:20260420T063848
CREATED:20260109T223553Z
LAST-MODIFIED:20260109T223553Z
UID:3402-1782086400-1782518399@www.gforcegyms.com
SUMMARY:Summer Camp (Week 4): Dinosaur Adventure
DESCRIPTION:
URL:https://www.gforcegyms.com/event/summer-camp-week-4-dinosaur-adventure/
CATEGORIES:Camp
END:VEVENT
BEGIN:VEVENT
DTSTART;VALUE=DATE:20260629
DTEND;VALUE=DATE:20260703
DTSTAMP:20260420T063848
CREATED:20260109T223606Z
LAST-MODIFIED:20260109T223606Z
UID:3404-1782691200-1783036799@www.gforcegyms.com
SUMMARY:Summer Camp (Week 5): 4-Day Party in the USA
DESCRIPTION:
URL:https://www.gforcegyms.com/event/summer-camp-week-5-4-day-party-in-the-usa/
CATEGORIES:Camp
END:VEVENT
BEGIN:VEVENT
DTSTART;VALUE=DATE:20260706
DTEND;VALUE=DATE:20260711
DTSTAMP:20260420T063848
CREATED:20260109T223621Z
LAST-MODIFIED:20260109T223621Z
UID:3408-1783296000-1783727999@www.gforcegyms.com
SUMMARY:Summer Camp (Week 6): Team Only Camp
DESCRIPTION:
URL:https://www.gforcegyms.com/event/summer-camp-week-6-team-only-camp/
CATEGORIES:Camp
END:VEVENT
BEGIN:VEVENT
DTSTART;VALUE=DATE:20260706
DTEND;VALUE=DATE:20260711
DTSTAMP:20260420T063848
CREATED:20260109T223621Z
LAST-MODIFIED:20260109T223621Z
UID:3409-1783296000-1783727999@www.gforcegyms.com
SUMMARY:Summer Camp (Week 6): Parkour
DESCRIPTION:
URL:https://www.gforcegyms.com/event/summer-camp-week-6-parkour/
CATEGORIES:Camp
END:VEVENT
BEGIN:VEVENT
DTSTART;VALUE=DATE:20260713
DTEND;VALUE=DATE:20260718
DTSTAMP:20260420T063848
CREATED:20260109T223623Z
LAST-MODIFIED:20260109T223623Z
UID:3412-1783900800-1784332799@www.gforcegyms.com
SUMMARY:Summer Camp (Week 7): GForce’s Got Talent
DESCRIPTION:
URL:https://www.gforcegyms.com/event/summer-camp-week-7-gforces-got-talent/
CATEGORIES:Camp
END:VEVENT
BEGIN:VEVENT
DTSTART;VALUE=DATE:20260720
DTEND;VALUE=DATE:20260725
DTSTAMP:20260420T063848
CREATED:20260109T223637Z
LAST-MODIFIED:20260109T223637Z
UID:3414-1784505600-1784937599@www.gforcegyms.com
SUMMARY:Summer Camp (Week 8): Ninja
DESCRIPTION:
URL:https://www.gforcegyms.com/event/summer-camp-week-8-ninja/
CATEGORIES:Camp
END:VEVENT
BEGIN:VEVENT
DTSTART;VALUE=DATE:20260727
DTEND;VALUE=DATE:20260801
DTSTAMP:20260420T063848
CREATED:20260109T223638Z
LAST-MODIFIED:20260109T223638Z
UID:3416-1785110400-1785542399@www.gforcegyms.com
SUMMARY:Summer Camp (Week 9): Pirates & Princesses
DESCRIPTION:
URL:https://www.gforcegyms.com/event/summer-camp-week-9-pirates-princesses/
CATEGORIES:Camp
END:VEVENT
BEGIN:VEVENT
DTSTART;VALUE=DATE:20260803
DTEND;VALUE=DATE:20260808
DTSTAMP:20260420T063848
CREATED:20260109T223651Z
LAST-MODIFIED:20260109T223651Z
UID:3418-1785715200-1786147199@www.gforcegyms.com
SUMMARY:Summer Camp (Week 10): Under the Sea
DESCRIPTION:
URL:https://www.gforcegyms.com/event/summer-camp-week-10-under-the-sea/
CATEGORIES:Camp
END:VEVENT
BEGIN:VEVENT
DTSTART;VALUE=DATE:20260810
DTEND;VALUE=DATE:20260815
DTSTAMP:20260420T063848
CREATED:20260109T223652Z
LAST-MODIFIED:20260109T223652Z
UID:3420-1786320000-1786751999@www.gforcegyms.com
SUMMARY:Summer Camp (Week 11): Jungle
DESCRIPTION:
URL:https://www.gforcegyms.com/event/summer-camp-week-11-jungle/
CATEGORIES:Camp
END:VEVENT
BEGIN:VEVENT
DTSTART;VALUE=DATE:20260921
DTEND;VALUE=DATE:20260926
DTSTAMP:20260420T063848
CREATED:20260109T223722Z
LAST-MODIFIED:20260109T223722Z
UID:3431-1789948800-1790380799@www.gforcegyms.com
SUMMARY:Fall Break Camp (Week 1)
DESCRIPTION:
URL:https://www.gforcegyms.com/event/fall-break-camp-week-1/
CATEGORIES:Camp
END:VEVENT
BEGIN:VEVENT
DTSTART;VALUE=DATE:20260928
DTEND;VALUE=DATE:20261003
DTSTAMP:20260420T063848
CREATED:20260109T223736Z
LAST-MODIFIED:20260109T223736Z
UID:3433-1790553600-1790985599@www.gforcegyms.com
SUMMARY:Fall Break Camp (Week 2)
DESCRIPTION:
URL:https://www.gforcegyms.com/event/fall-break-camp-week-2/
CATEGORIES:Camp
END:VEVENT
BEGIN:VEVENT
DTSTART;VALUE=DATE:20261005
DTEND;VALUE=DATE:20261010
DTSTAMP:20260420T063848
CREATED:20260109T223736Z
LAST-MODIFIED:20260109T223736Z
UID:3435-1791158400-1791590399@www.gforcegyms.com
SUMMARY:Fall Break Camp (Week 3)
DESCRIPTION:
URL:https://www.gforcegyms.com/event/fall-break-camp-week-3/
CATEGORIES:Camp
END:VEVENT
BEGIN:VEVENT
DTSTART;VALUE=DATE:20261026
DTEND;VALUE=DATE:20261031
DTSTAMP:20260420T063848
CREATED:20260109T223752Z
LAST-MODIFIED:20260109T223752Z
UID:3442-1792972800-1793404799@www.gforcegyms.com
SUMMARY:Fall Break Camp (Week 4)
DESCRIPTION:
URL:https://www.gforcegyms.com/event/fall-break-camp-week-4/
CATEGORIES:Camp
END:VEVENT
BEGIN:VEVENT
DTSTART;VALUE=DATE:20261123
DTEND;VALUE=DATE:20261126
DTSTAMP:20260420T063848
CREATED:20260109T223900Z
LAST-MODIFIED:20260109T223900Z
UID:3453-1795392000-1795651199@www.gforcegyms.com
SUMMARY:Turkey Day Camp
DESCRIPTION:
URL:https://www.gforcegyms.com/event/turkey-day-camp/
CATEGORIES:Camp
END:VEVENT
BEGIN:VEVENT
DTSTART;VALUE=DATE:20261221
DTEND;VALUE=DATE:20261224
DTSTAMP:20260420T063848
CREATED:20260109T223915Z
LAST-MODIFIED:20260109T223915Z
UID:3461-1797811200-1798070399@www.gforcegyms.com
SUMMARY:Winter Break Camp (Week 1): 3-Day Polar Express
DESCRIPTION:
URL:https://www.gforcegyms.com/event/winter-break-camp-week-1-3-day-polar-express/
CATEGORIES:Camp
END:VEVENT
BEGIN:VEVENT
DTSTART;VALUE=DATE:20261228
DTEND;VALUE=DATE:20261231
DTSTAMP:20260420T063848
CREATED:20260109T223930Z
LAST-MODIFIED:20260109T223930Z
UID:3464-1798416000-1798675199@www.gforcegyms.com
SUMMARY:Winter Break Camp (Week 2): 3-Day New Year
DESCRIPTION:
URL:https://www.gforcegyms.com/event/winter-break-camp-week-2-3-day-new-year/
CATEGORIES:Camp
END:VEVENT
END:VCALENDAR