BEGIN:VCALENDAR
VERSION:2.0
PRODID:-//GForce Gymnastics &amp; Parkour - ECPv6.15.20//NONSGML v1.0//EN
CALSCALE:GREGORIAN
METHOD:PUBLISH
X-ORIGINAL-URL:https://www.gforcegyms.com
X-WR-CALDESC:Events for GForce Gymnastics &amp; Parkour
REFRESH-INTERVAL;VALUE=DURATION:PT1H
X-Robots-Tag:noindex
X-PUBLISHED-TTL:PT1H
BEGIN:VTIMEZONE
TZID:America/Los_Angeles
BEGIN:DAYLIGHT
TZOFFSETFROM:-0800
TZOFFSETTO:-0700
TZNAME:PDT
DTSTART:20250309T100000
END:DAYLIGHT
BEGIN:STANDARD
TZOFFSETFROM:-0700
TZOFFSETTO:-0800
TZNAME:PST
DTSTART:20251102T090000
END:STANDARD
BEGIN:DAYLIGHT
TZOFFSETFROM:-0800
TZOFFSETTO:-0700
TZNAME:PDT
DTSTART:20260308T100000
END:DAYLIGHT
BEGIN:STANDARD
TZOFFSETFROM:-0700
TZOFFSETTO:-0800
TZNAME:PST
DTSTART:20261101T090000
END:STANDARD
BEGIN:DAYLIGHT
TZOFFSETFROM:-0800
TZOFFSETTO:-0700
TZNAME:PDT
DTSTART:20270314T100000
END:DAYLIGHT
BEGIN:STANDARD
TZOFFSETFROM:-0700
TZOFFSETTO:-0800
TZNAME:PST
DTSTART:20271107T090000
END:STANDARD
END:VTIMEZONE
BEGIN:VEVENT
DTSTART;VALUE=DATE:20260629
DTEND;VALUE=DATE:20260706
DTSTAMP:20260420T092104
CREATED:20260109T223607Z
LAST-MODIFIED:20260109T223607Z
UID:3406-1782691200-1783295999@www.gforcegyms.com
SUMMARY:Closed: 4th of July
DESCRIPTION:
URL:https://www.gforcegyms.com/event/closed-4th-of-july/
CATEGORIES:Closed
END:VEVENT
BEGIN:VEVENT
DTSTART;VALUE=DATE:20260701
DTEND;VALUE=DATE:20260703
DTSTAMP:20260420T092104
CREATED:20260109T223607Z
LAST-MODIFIED:20260109T223607Z
UID:3405-1782864000-1783036799@www.gforcegyms.com
SUMMARY:Closed (Open for Camp): 4th of July
DESCRIPTION:
URL:https://www.gforcegyms.com/event/closed-open-for-camp-4th-of-july/
CATEGORIES:Closed
END:VEVENT
END:VCALENDAR