BEGIN:VCALENDAR
VERSION:2.0
PRODID:-//GForce Gymnastics &amp; Parkour - ECPv6.15.20//NONSGML v1.0//EN
CALSCALE:GREGORIAN
METHOD:PUBLISH
X-ORIGINAL-URL:https://www.gforcegyms.com
X-WR-CALDESC:Events for GForce Gymnastics &amp; Parkour
REFRESH-INTERVAL;VALUE=DURATION:PT1H
X-Robots-Tag:noindex
X-PUBLISHED-TTL:PT1H
BEGIN:VTIMEZONE
TZID:America/Los_Angeles
BEGIN:DAYLIGHT
TZOFFSETFROM:-0800
TZOFFSETTO:-0700
TZNAME:PDT
DTSTART:20250309T100000
END:DAYLIGHT
BEGIN:STANDARD
TZOFFSETFROM:-0700
TZOFFSETTO:-0800
TZNAME:PST
DTSTART:20251102T090000
END:STANDARD
BEGIN:DAYLIGHT
TZOFFSETFROM:-0800
TZOFFSETTO:-0700
TZNAME:PDT
DTSTART:20260308T100000
END:DAYLIGHT
BEGIN:STANDARD
TZOFFSETFROM:-0700
TZOFFSETTO:-0800
TZNAME:PST
DTSTART:20261101T090000
END:STANDARD
BEGIN:DAYLIGHT
TZOFFSETFROM:-0800
TZOFFSETTO:-0700
TZNAME:PDT
DTSTART:20270314T100000
END:DAYLIGHT
BEGIN:STANDARD
TZOFFSETFROM:-0700
TZOFFSETTO:-0800
TZNAME:PST
DTSTART:20271107T090000
END:STANDARD
END:VTIMEZONE
BEGIN:VEVENT
DTSTART;VALUE=DATE:20260802
DTEND;VALUE=DATE:20260803
DTSTAMP:20260420T061627
CREATED:20260109T223638Z
LAST-MODIFIED:20260109T223638Z
UID:3417-1785628800-1785715199@www.gforcegyms.com
SUMMARY:A Safety\, Stick\, & Finish
DESCRIPTION:
URL:https://www.gforcegyms.com/event/a-safety-stick-finish-3/
CATEGORIES:Class / Program
END:VEVENT
BEGIN:VEVENT
DTSTART;VALUE=DATE:20260803
DTEND;VALUE=DATE:20260808
DTSTAMP:20260420T061627
CREATED:20260109T223651Z
LAST-MODIFIED:20260109T223651Z
UID:3418-1785715200-1786147199@www.gforcegyms.com
SUMMARY:Summer Camp (Week 10): Under the Sea
DESCRIPTION:
URL:https://www.gforcegyms.com/event/summer-camp-week-10-under-the-sea/
CATEGORIES:Camp
END:VEVENT
BEGIN:VEVENT
DTSTART;VALUE=DATE:20260809
DTEND;VALUE=DATE:20260810
DTSTAMP:20260420T061627
CREATED:20260109T223652Z
LAST-MODIFIED:20260109T223652Z
UID:3419-1786233600-1786319999@www.gforcegyms.com
SUMMARY:B Safety\, Stick\, & Finish
DESCRIPTION:
URL:https://www.gforcegyms.com/event/b-safety-stick-finish-3/
CATEGORIES:Class / Program
END:VEVENT
BEGIN:VEVENT
DTSTART;VALUE=DATE:20260810
DTEND;VALUE=DATE:20260815
DTSTAMP:20260420T061627
CREATED:20260109T223652Z
LAST-MODIFIED:20260109T223652Z
UID:3420-1786320000-1786751999@www.gforcegyms.com
SUMMARY:Summer Camp (Week 11): Jungle
DESCRIPTION:
URL:https://www.gforcegyms.com/event/summer-camp-week-11-jungle/
CATEGORIES:Camp
END:VEVENT
BEGIN:VEVENT
DTSTART;VALUE=DATE:20260810
DTEND;VALUE=DATE:20260816
DTSTAMP:20260420T061627
CREATED:20260109T223653Z
LAST-MODIFIED:20260109T223653Z
UID:3421-1786320000-1786838399@www.gforcegyms.com
SUMMARY:Bring a Friend Week: Summer Send-Off – Back to GForce
DESCRIPTION:
URL:https://www.gforcegyms.com/event/bring-a-friend-week-summer-send-off-back-to-gforce/
CATEGORIES:Promotion
END:VEVENT
BEGIN:VEVENT
DTSTART;VALUE=DATE:20260814
DTEND;VALUE=DATE:20260815
DTSTAMP:20260420T061627
CREATED:20260109T223653Z
LAST-MODIFIED:20260109T223653Z
UID:3422-1786665600-1786751999@www.gforcegyms.com
SUMMARY:Kids Night Out
DESCRIPTION:
URL:https://www.gforcegyms.com/event/kids-night-out-8/
CATEGORIES:Event
END:VEVENT
BEGIN:VEVENT
DTSTART;VALUE=DATE:20260816
DTEND;VALUE=DATE:20260817
DTSTAMP:20260420T061627
CREATED:20260109T223706Z
LAST-MODIFIED:20260109T223706Z
UID:3423-1786838400-1786924799@www.gforcegyms.com
SUMMARY:A Up & Over
DESCRIPTION:
URL:https://www.gforcegyms.com/event/a-up-over-4/
CATEGORIES:Class / Program
END:VEVENT
BEGIN:VEVENT
DTSTART;VALUE=DATE:20260823
DTEND;VALUE=DATE:20260824
DTSTAMP:20260420T061627
CREATED:20260109T223706Z
LAST-MODIFIED:20260109T223706Z
UID:3424-1787443200-1787529599@www.gforcegyms.com
SUMMARY:B Up & Over
DESCRIPTION:
URL:https://www.gforcegyms.com/event/b-up-over-4/
CATEGORIES:Class / Program
END:VEVENT
BEGIN:VEVENT
DTSTART;VALUE=DATE:20260830
DTEND;VALUE=DATE:20260831
DTSTAMP:20260420T061627
CREATED:20260109T223707Z
LAST-MODIFIED:20260109T223707Z
UID:3425-1788048000-1788134399@www.gforcegyms.com
SUMMARY:A Forwards
DESCRIPTION:
URL:https://www.gforcegyms.com/event/a-forwards-4/
CATEGORIES:Class / Program
END:VEVENT
END:VCALENDAR